BEGIN:VCALENDAR
VERSION:2.0
PRODID:-//MT2030 - ECPv6.15.20//NONSGML v1.0//EN
CALSCALE:GREGORIAN
METHOD:PUBLISH
X-ORIGINAL-URL:https://www.mt2030.org
X-WR-CALDESC:Events for MT2030
REFRESH-INTERVAL;VALUE=DURATION:PT1H
X-Robots-Tag:noindex
X-PUBLISHED-TTL:PT1H
BEGIN:VTIMEZONE
TZID:America/Denver
BEGIN:DAYLIGHT
TZOFFSETFROM:-0700
TZOFFSETTO:-0600
TZNAME:MDT
DTSTART:20250309T090000
END:DAYLIGHT
BEGIN:STANDARD
TZOFFSETFROM:-0600
TZOFFSETTO:-0700
TZNAME:MST
DTSTART:20251102T080000
END:STANDARD
BEGIN:DAYLIGHT
TZOFFSETFROM:-0700
TZOFFSETTO:-0600
TZNAME:MDT
DTSTART:20260308T090000
END:DAYLIGHT
BEGIN:STANDARD
TZOFFSETFROM:-0600
TZOFFSETTO:-0700
TZNAME:MST
DTSTART:20261101T080000
END:STANDARD
BEGIN:DAYLIGHT
TZOFFSETFROM:-0700
TZOFFSETTO:-0600
TZNAME:MDT
DTSTART:20270314T090000
END:DAYLIGHT
BEGIN:STANDARD
TZOFFSETFROM:-0600
TZOFFSETTO:-0700
TZNAME:MST
DTSTART:20271107T080000
END:STANDARD
END:VTIMEZONE
BEGIN:VEVENT
DTSTART;TZID=America/Denver:20260519T103000
DTEND;TZID=America/Denver:20260519T233000
DTSTAMP:20260421T183039
CREATED:20260331T213456Z
LAST-MODIFIED:20260331T213648Z
UID:16991-1779186600-1779233400@www.mt2030.org
SUMMARY:How the Routt County Climate Action Collaborative developed a community-wide Building Electrification and Decarbonization Plan
DESCRIPTION:A case study of the tools and analysis used to build a community wide 30 year building electrification and decarbonization plan and dashboard.\nGuests:\n\nPaul Bony\, Western Resilience Center\nMichael Goodrum\, NORESCO
URL:https://www.mt2030.org/event/how-the-routt-county-climate-action-collaborative-developed-a-community-wide-building-electrification-and-decarbonization-plan/
ATTACH;FMTTYPE=image/jpeg:https://www.mt2030.org/wp-content/uploads/2026/03/wetzel_winter_alpenglow_downtown_ad2d917d-56c3-4333-bded-6169e17e5d1b-1024x572-1.jpg
END:VEVENT
END:VCALENDAR