BEGIN:VCALENDAR
VERSION:2.0
PRODID:-//MT2030 - ECPv6.15.20//NONSGML v1.0//EN
CALSCALE:GREGORIAN
METHOD:PUBLISH
X-WR-CALNAME:MT2030
X-ORIGINAL-URL:https://www.mt2030.org
X-WR-CALDESC:Events for MT2030
REFRESH-INTERVAL;VALUE=DURATION:PT1H
X-Robots-Tag:noindex
X-PUBLISHED-TTL:PT1H
BEGIN:VTIMEZONE
TZID:America/Denver
BEGIN:DAYLIGHT
TZOFFSETFROM:-0700
TZOFFSETTO:-0600
TZNAME:MDT
DTSTART:20250309T090000
END:DAYLIGHT
BEGIN:STANDARD
TZOFFSETFROM:-0600
TZOFFSETTO:-0700
TZNAME:MST
DTSTART:20251102T080000
END:STANDARD
BEGIN:DAYLIGHT
TZOFFSETFROM:-0700
TZOFFSETTO:-0600
TZNAME:MDT
DTSTART:20260308T090000
END:DAYLIGHT
BEGIN:STANDARD
TZOFFSETFROM:-0600
TZOFFSETTO:-0700
TZNAME:MST
DTSTART:20261101T080000
END:STANDARD
BEGIN:DAYLIGHT
TZOFFSETFROM:-0700
TZOFFSETTO:-0600
TZNAME:MDT
DTSTART:20270314T090000
END:DAYLIGHT
BEGIN:STANDARD
TZOFFSETFROM:-0600
TZOFFSETTO:-0700
TZNAME:MST
DTSTART:20271107T080000
END:STANDARD
END:VTIMEZONE
BEGIN:VEVENT
DTSTART;TZID=America/Denver:20260331T110000
DTEND;TZID=America/Denver:20260331T120000
DTSTAMP:20260423T110306
CREATED:20260224T211735Z
LAST-MODIFIED:20260224T211735Z
UID:16807-1774954800-1774958400@www.mt2030.org
SUMMARY:Wildfire & Climate Resilience with Biochar: Financing Fuels Reduction
DESCRIPTION:Wildfire & Climate Resilience with Biochar: Financing Fuels Reduction\n\n\n\n\n\n\n\n\nAs wildfire seasons grow longer and more destructive\, mountain and rural communities are searching for scalable\, cost-effective solutions. This webinar explores how biochar can turn hazardous forest fuels into a climate solution reducing wildfire risk\, sequestering carbon\, and creating new economic opportunities. \nJoin us to learn how innovative public-private partnerships\, and emerging carbon markets can help fund fuels reduction projects\, accelerate forest restoration\, and build long-term climate resilience. \nGuest speaker: \nNoah Planavsky\, Professor of Earth and Planetary Sciences Yale University\nLizzy Vanderkloot\, Riseline Foundation\nAlan Spadafora\, Circle Forestry
URL:https://www.mt2030.org/event/wildfire-climate-resilience-with-biochar-financing-fuels-reduction/
ATTACH;FMTTYPE=image/webp:https://www.mt2030.org/wp-content/uploads/2026/02/Biochar.webp
END:VEVENT
BEGIN:VEVENT
DTSTART;TZID=America/Denver:20260312T110000
DTEND;TZID=America/Denver:20260312T120000
DTSTAMP:20260423T110306
CREATED:20260306T180126Z
LAST-MODIFIED:20260306T180228Z
UID:16896-1773313200-1773316800@www.mt2030.org
SUMMARY:DOE Funding Opportunity: Deep Geothermal Field Tests
DESCRIPTION:The State of Colorado is energized by the latest Notice of Funding Opportunity from the Department of Energy’s Office of Geothermal for deep geothermal field tests and resource characterization. This solicitation represents a pivotal window to catalyze deep geothermal development by building certainty around resource characterization—a critical step in de-risking the future of the industry for Colorado.\nThis federal solicitation requires a 20% non-federal cost-sharing requirement. A letter of intent to apply is due March 27\, and the application deadline is April 30\, 2026. The State of Colorado seeks to support developer applications for this solicitation\, but will not serve as the lead applicant.\n\nThe CO Department of Energy is inviting prospective applicants considering applying for Colorado projects to join representatives from the Governor’s Office\, Colorado Energy Office\, Energy and Carbon Management Commission\, and Department of Natural Resources for an Open Q&A Session at 11:00am MT on Thursday\, March 12 to discuss how the State of Colorado can support your applications and the resources we have available to ensure a competitive submission.
URL:https://www.mt2030.org/event/doe-funding-opportunity-deep-geothermal-field-tests/
ATTACH;FMTTYPE=image/jpeg:https://www.mt2030.org/wp-content/uploads/2026/03/stimulation-1280x720-1.jpg
END:VEVENT
END:VCALENDAR