BEGIN:VCALENDAR
VERSION:2.0
PRODID:-//MT2030 - ECPv6.15.20//NONSGML v1.0//EN
CALSCALE:GREGORIAN
METHOD:PUBLISH
X-ORIGINAL-URL:https://www.mt2030.org
X-WR-CALDESC:Events for MT2030
REFRESH-INTERVAL;VALUE=DURATION:PT1H
X-Robots-Tag:noindex
X-PUBLISHED-TTL:PT1H
BEGIN:VTIMEZONE
TZID:America/Denver
BEGIN:DAYLIGHT
TZOFFSETFROM:-0700
TZOFFSETTO:-0600
TZNAME:MDT
DTSTART:20250309T090000
END:DAYLIGHT
BEGIN:STANDARD
TZOFFSETFROM:-0600
TZOFFSETTO:-0700
TZNAME:MST
DTSTART:20251102T080000
END:STANDARD
BEGIN:DAYLIGHT
TZOFFSETFROM:-0700
TZOFFSETTO:-0600
TZNAME:MDT
DTSTART:20260308T090000
END:DAYLIGHT
BEGIN:STANDARD
TZOFFSETFROM:-0600
TZOFFSETTO:-0700
TZNAME:MST
DTSTART:20261101T080000
END:STANDARD
BEGIN:DAYLIGHT
TZOFFSETFROM:-0700
TZOFFSETTO:-0600
TZNAME:MDT
DTSTART:20270314T090000
END:DAYLIGHT
BEGIN:STANDARD
TZOFFSETFROM:-0600
TZOFFSETTO:-0700
TZNAME:MST
DTSTART:20271107T080000
END:STANDARD
END:VTIMEZONE
BEGIN:VEVENT
DTSTART;TZID=America/Denver:20260617T110000
DTEND;TZID=America/Denver:20260617T120000
DTSTAMP:20260422T002227
CREATED:20260218T232817Z
LAST-MODIFIED:20260218T235537Z
UID:16609-1781694000-1781697600@www.mt2030.org
SUMMARY:Implementing Innovative Sustainable Building Design through Collaboration
DESCRIPTION:Designing high-performance\, low-carbon buildings takes more than great architecture\,  it takes deep collaboration. \nJoin us for Implementing Innovative Sustainable Building Design through Collaboration\, a dynamic conversation exploring how architects\, engineers\, developers\, utilities\, and community leaders can work together to deliver climate-smart buildings that perform in the real world. \nIn this webinar\, we’ll explore: \n\nHow early-stage collaboration unlocks better building performance\nIntegrating electrification\, efficiency\, and renewable energy from day one\nAligning budgets\, policy goals\, and design ambitions\nOvercoming common barriers in mountain and rural communities\n\nFrom net-zero strategies to scalable\, replicable solutions\, this session will highlight real-world examples and practical insights you can apply immediately. \nRegister now and help shape the future of climate-smart design. \nHost: Jamie Wolff\, Oz Architecture & Design
URL:https://www.mt2030.org/event/implementing-innovative-sustainable-building-design-through-collaboration/
ATTACH;FMTTYPE=image/png:https://www.mt2030.org/wp-content/uploads/2026/02/Screenshot-2026-02-18-at-4.35.05-PM.png
END:VEVENT
END:VCALENDAR